BEGIN:VCALENDAR
VERSION:2.0
PRODID:-//Recep Emre Er&ccedil;etin - ECPv6.15.20//NONSGML v1.0//EN
CALSCALE:GREGORIAN
METHOD:PUBLISH
X-WR-CALNAME:Recep Emre Er&ccedil;etin
X-ORIGINAL-URL:https://www.recepemreercetin.com
X-WR-CALDESC:Recep Emre Er&ccedil;etin için etkinlikler
REFRESH-INTERVAL;VALUE=DURATION:PT1H
X-Robots-Tag:noindex
X-PUBLISHED-TTL:PT1H
BEGIN:VTIMEZONE
TZID:Europe/Moscow
BEGIN:STANDARD
TZOFFSETFROM:+0300
TZOFFSETTO:+0300
TZNAME:MSK
DTSTART:20250101T000000
END:STANDARD
END:VTIMEZONE
BEGIN:VEVENT
DTSTART;TZID=Europe/Moscow:20260428T200000
DTEND;TZID=Europe/Moscow:20260428T220000
DTSTAMP:20260422T135308
CREATED:20260420T081515Z
LAST-MODIFIED:20260420T081515Z
UID:3373-1777406400-1777413600@www.recepemreercetin.com
SUMMARY:Youtube-Kick-Instagram Canlı Yayın
DESCRIPTION:
URL:https://www.recepemreercetin.com/etkinlik/youtube-kick-instagram-canli-yayin/
LOCATION:Online Youtube Etkinliği
ORGANIZER;CN="Recep Emre Er%C3%A7etin":MAILTO:iletisim@recepemreercetin.com
END:VEVENT
END:VCALENDAR